BEGIN:VCALENDAR
VERSION:2.0
PRODID:-//Wayne Health - ECPv6.15.20//NONSGML v1.0//EN
CALSCALE:GREGORIAN
METHOD:PUBLISH
X-ORIGINAL-URL:https://www.waynehealthcares.org
X-WR-CALDESC:Events for Wayne Health
REFRESH-INTERVAL;VALUE=DURATION:PT1H
X-Robots-Tag:noindex
X-PUBLISHED-TTL:PT1H
BEGIN:VTIMEZONE
TZID:America/Detroit
BEGIN:DAYLIGHT
TZOFFSETFROM:-0500
TZOFFSETTO:-0400
TZNAME:EDT
DTSTART:20230312T070000
END:DAYLIGHT
BEGIN:STANDARD
TZOFFSETFROM:-0400
TZOFFSETTO:-0500
TZNAME:EST
DTSTART:20231105T060000
END:STANDARD
BEGIN:DAYLIGHT
TZOFFSETFROM:-0500
TZOFFSETTO:-0400
TZNAME:EDT
DTSTART:20240310T070000
END:DAYLIGHT
BEGIN:STANDARD
TZOFFSETFROM:-0400
TZOFFSETTO:-0500
TZNAME:EST
DTSTART:20241103T060000
END:STANDARD
BEGIN:DAYLIGHT
TZOFFSETFROM:-0500
TZOFFSETTO:-0400
TZNAME:EDT
DTSTART:20250309T070000
END:DAYLIGHT
BEGIN:STANDARD
TZOFFSETFROM:-0400
TZOFFSETTO:-0500
TZNAME:EST
DTSTART:20251102T060000
END:STANDARD
END:VTIMEZONE
BEGIN:VEVENT
DTSTART;TZID=America/Detroit:20240808T090000
DTEND;TZID=America/Detroit:20240808T150000
DTSTAMP:20260422T073651
CREATED:20240729T181653Z
LAST-MODIFIED:20240729T181653Z
UID:16846-1723107600-1723129200@www.waynehealthcares.org
SUMMARY:Cory Elementary Lead Testing Event
DESCRIPTION:Wayne Mobile Health Unit (WMHU)\, in partnership with Cory Elementary Lead Testing Event\, is offering the following services: \n* Lead Testing \n* If you have questions concerning vaccine guidance\, please call the WMHU at: 313-448-9850\n* No appointment required\n* ID not required *We do collect if available\n* Insurance not required *We do collect if available; you will not receive a co-pay for this event \nWhat to Expect:\n* Qualified healthcare professional will provide all medical services\n* Vaccine education will be provided on-site \n 
URL:https://www.waynehealthcares.org/event/cory-elementary-lead-testing-event/
LOCATION:Cory Elementary\, 35200 Smith Road\, Romulus\, MI\, 48174
END:VEVENT
BEGIN:VEVENT
DTSTART;TZID=America/Detroit:20240808T130000
DTEND;TZID=America/Detroit:20240808T150000
DTSTAMP:20260422T073651
CREATED:20240711T190010Z
LAST-MODIFIED:20240711T190010Z
UID:16650-1723122000-1723129200@www.waynehealthcares.org
SUMMARY:Non-public Event
DESCRIPTION:
URL:https://www.waynehealthcares.org/event/non-public-event-59/
LOCATION:MI
END:VEVENT
BEGIN:VEVENT
DTSTART;TZID=America/Detroit:20240809T100000
DTEND;TZID=America/Detroit:20240809T130000
DTSTAMP:20260422T073651
CREATED:20240729T182411Z
LAST-MODIFIED:20240801T161208Z
UID:16849-1723197600-1723208400@www.waynehealthcares.org
SUMMARY:Thirkell Elementary Middle School Back to School Open House
DESCRIPTION:Wayne Mobile Health Unit (WMHU)\, in partnership with Thirkell Elementary Middle School Back to School Open House\, is offering the following services: \n* Blood Pressure Screening\n* Diabetes\, cholesterol\, kidney function screening \n* If you have questions concerning vaccine guidance\, please call the WMHU at: 313-448-9850\n* No appointment required\n* ID not required *We do collect if available\n* Insurance not required *We do collect if available; you will not receive a co-pay for this event \nWhat to Expect:\n* Qualified healthcare professional will provide all medical services\n* Vaccine education will be provided on-site
URL:https://www.waynehealthcares.org/event/non-public-event-55/
LOCATION:Thirkell Elementary Middle School\, 7724 14th Street\, Detroit\, MI\, 48206
END:VEVENT
BEGIN:VEVENT
DTSTART;TZID=America/Detroit:20240809T100000
DTEND;TZID=America/Detroit:20240809T143000
DTSTAMP:20260422T073651
CREATED:20240711T191306Z
LAST-MODIFIED:20240711T191306Z
UID:16656-1723197600-1723213800@www.waynehealthcares.org
SUMMARY:Non-public Event
DESCRIPTION:
URL:https://www.waynehealthcares.org/event/non-public-event-62/
LOCATION:MI
END:VEVENT
BEGIN:VEVENT
DTSTART;TZID=America/Detroit:20240809T100000
DTEND;TZID=America/Detroit:20240809T143000
DTSTAMP:20260422T073651
CREATED:20240723T165800Z
LAST-MODIFIED:20240723T165800Z
UID:16824-1723197600-1723213800@www.waynehealthcares.org
SUMMARY:Pathways to Potential
DESCRIPTION:Wayne Mobile Health Unit (WMHU)\, in partnership with Pathways to Potential\, is offering the following services: \n* Blood Pressure Screening\n* Diabetes\, cholesterol\, kidney function screening \n* If you have questions concerning vaccine guidance\, please call the WMHU at: 313-448-9850\n* No appointment required\n* ID not required *We do collect if available\n* Insurance not required *We do collect if available; you will not receive a co-pay for this event \nWhat to Expect:\n* Qualified healthcare professional will provide all medical services\n* Vaccine education will be provided on-site \n 
URL:https://www.waynehealthcares.org/event/pathways-to-potential/
LOCATION:Charles H Wright Academy\, 19299 Berg Road\, Detroit\, MI\, 48219
END:VEVENT
BEGIN:VEVENT
DTSTART;TZID=America/Detroit:20240809T120000
DTEND;TZID=America/Detroit:20240809T160000
DTSTAMP:20260422T073651
CREATED:20240711T190523Z
LAST-MODIFIED:20240711T190523Z
UID:16655-1723204800-1723219200@www.waynehealthcares.org
SUMMARY:Oak Village CARES/Oak Grove AME Church and Molina Healthcare
DESCRIPTION:Wayne Health Mobile Unit (WMHU)\, in partnership with Oak Village CARES/Oak Grove AME Church and Molina Healthcare\, is offering the following services: \n* Blood Pressure Screening\n* Diabetes\, cholesterol\, kidney function screening \n* Retina Imaging\n* Urinalysis \n* If you have questions concerning vaccine guidance\, please call the WHMU at: 313-448-9850\n* No appointment needed\n* ID not required *We do collect if available\n* Insurance not required *We do collect if available; you will not receive a co-pay for this event \nWhat to Expect:\n* Qualified healthcare professional will provide all medical services\n* Vaccine education will be provided on-site
URL:https://www.waynehealthcares.org/event/oak-village-cares-oak-grove-ame-church-and-molina-healthcare/
LOCATION:Oak Grove AME Church\, 19801 Cherrylawn St.\, Detroit\, MI\, 48221\, United States
END:VEVENT
BEGIN:VEVENT
DTSTART;TZID=America/Detroit:20240810T083000
DTEND;TZID=America/Detroit:20240810T103000
DTSTAMP:20260422T073651
CREATED:20240711T191922Z
LAST-MODIFIED:20240711T191922Z
UID:16657-1723278600-1723285800@www.waynehealthcares.org
SUMMARY:Redford Brightmoor Initiative - Free Store & Fresh Produce and Healthy Eating\, Healthy You
DESCRIPTION:Wayne Health Mobile Unit (WMHU)\, in partnership with Redford Brightmoor Initiative – Free Store & Fresh Produce and Healthy Eating\, Healthy You\, is offering the following services: \n* Blood Pressure Screening\n* Diabetes\, cholesterol\, kidney function screening \n* If you have questions concerning vaccine guidance\, please call the WHMU at: 313-448-9850\n* No appointment needed\n* ID not required *We do collect if available\n* Insurance not required *We do collect if available; you will not receive a co-pay for this event \nWhat to Expect:\n* Qualified healthcare professional will provide all medical services\n* Vaccine education will be provided on-site
URL:https://www.waynehealthcares.org/event/redford-brightmoor-initiative-free-store-fresh-produce-and-healthy-eating-healthy-you/
LOCATION:Redford Brightmoor Initiative\, 12065 W. Outer Drive\, Detroit\, MI\, 48223
END:VEVENT
BEGIN:VEVENT
DTSTART;TZID=America/Detroit:20240810T110000
DTEND;TZID=America/Detroit:20240810T130000
DTSTAMP:20260422T073651
CREATED:20240711T193812Z
LAST-MODIFIED:20240729T182947Z
UID:16662-1723287600-1723294800@www.waynehealthcares.org
SUMMARY:Bethel Baptist Church East Outdoor Gospel Festival
DESCRIPTION:Wayne Mobile Health Unit (WMHU)\, in partnership with Bethel Baptist Church East Outdoor Gospel Festival\, is offering the following services: \n* Blood Pressure Screening\n* Diabetes\, cholesterol\, kidney function screening \n* If you have questions concerning vaccine guidance\, please call the WMHU at: 313-448-9850\n* No appointment required\n* ID not required *We do collect if available\n* Insurance not required *We do collect if available; you will not receive a co-pay for this event \nWhat to Expect:\n* Qualified healthcare professional will provide all medical services\n* Vaccine education will be provided on-site
URL:https://www.waynehealthcares.org/event/bethel-baptist-church-east-outdoor-gospel-festival/
LOCATION:Bethel Baptist Church East\, 5715 Holcomb Ave\, Detroit\, MI\, 48213\, United States
END:VEVENT
BEGIN:VEVENT
DTSTART;TZID=America/Detroit:20240810T110000
DTEND;TZID=America/Detroit:20240810T160000
DTSTAMP:20260422T073651
CREATED:20240711T192750Z
LAST-MODIFIED:20240711T192750Z
UID:16658-1723287600-1723305600@www.waynehealthcares.org
SUMMARY:Serenity Christian Church Health and Wellness Return to School Fair
DESCRIPTION:Wayne Mobile Health Unit (WMHU)\, in partnership with Serenity Christian Church Health and Wellness Return to School Fair\, is offering the following services: \n* Blood Pressure Screening\n* Diabetes\, cholesterol\, kidney function screening \n* If you have questions concerning vaccine guidance\, please call the WMHU at: 313-448-9850\n* No appointment required\n* ID not required *We do collect if available\n* Insurance not required *We do collect if available; you will not receive a co-pay for this event \nWhat to Expect:\n* Qualified healthcare professional will provide all medical services\n* Vaccine education will be provided on-site
URL:https://www.waynehealthcares.org/event/serenity-christian-church-health-and-wellness-return-to-school-fair/
LOCATION:Serenity Christian Church\, 24120 N. Chrysler Drive\, Hazel Park\, MI\, 48030
END:VEVENT
BEGIN:VEVENT
DTSTART;TZID=America/Detroit:20240810T120000
DTEND;TZID=America/Detroit:20240810T150000
DTSTAMP:20260422T073651
CREATED:20240711T194702Z
LAST-MODIFIED:20240711T194715Z
UID:16667-1723291200-1723302000@www.waynehealthcares.org
SUMMARY:Ebenezer AME Church Praise in the Park
DESCRIPTION:Wayne Mobile Health Unit (WMHU)\, in partnership with Ebenezer AME Church Praise in the Park\, is offering the following services: \n* Blood Pressure Screening\n* Diabetes\, cholesterol\, kidney function screening \n* If you have questions concerning vaccine guidance\, please call the WMHU at: 313-448-9850\n* No appointment required\n* ID not required *We do collect if available\n* Insurance not required *We do collect if available; you will not receive a co-pay for this event \nWhat to Expect:\n* Qualified healthcare professional will provide all medical services\n* Vaccine education will be provided on-site
URL:https://www.waynehealthcares.org/event/ebenezer-ame-church-praise-in-the-park/
LOCATION:Ebenezer AME Church\, 5151 W. Chicago\, Detroit\, MI\, 48204
END:VEVENT
BEGIN:VEVENT
DTSTART;TZID=America/Detroit:20240810T120000
DTEND;TZID=America/Detroit:20240810T160000
DTSTAMP:20260422T073651
CREATED:20240711T193229Z
LAST-MODIFIED:20240711T193229Z
UID:16660-1723291200-1723305600@www.waynehealthcares.org
SUMMARY:Mary Grove Conservancy Community Event
DESCRIPTION:Wayne Mobile Health Unit (WMHU)\, in partnership with Mary Grove Conservancy Community Event\, is offering the following services: \n* Blood Pressure Screening\n* Diabetes\, cholesterol\, kidney function screening \n* If you have questions concerning vaccine guidance\, please call the WMHU at: 313-448-9850\n* No appointment required\n* ID not required *We do collect if available\n* Insurance not required *We do collect if available; you will not receive a co-pay for this event \nWhat to Expect:\n* Qualified healthcare professional will provide all medical services\n* Vaccine education will be provided on-site
URL:https://www.waynehealthcares.org/event/mary-grove-conservancy-community-event/
LOCATION:Mary Grove Conservancy\, 8425 W. McNichols\, Detroit\, MI\, 48221
END:VEVENT
BEGIN:VEVENT
DTSTART;TZID=America/Detroit:20240810T130000
DTEND;TZID=America/Detroit:20240810T150000
DTSTAMP:20260422T073651
CREATED:20240711T194204Z
LAST-MODIFIED:20240729T182825Z
UID:16664-1723294800-1723302000@www.waynehealthcares.org
SUMMARY:St. Paul AME Church Back to School Bash
DESCRIPTION:Wayne Mobile Health Unit (WMHU)\, in partnership with St. Paul AME Church Back to School Bash\, is offering the following services: \n* Blood Pressure Screening\n* Diabetes\, cholesterol\, kidney function screening \n* If you have questions concerning vaccine guidance\, please call the WMHU at: 313-448-9850\n* No appointment required\n* ID not required *We do collect if available\n* Insurance not required *We do collect if available; you will not receive a co-pay for this event \nWhat to Expect:\n* Qualified healthcare professional will provide all medical services\n* Vaccine education will be provided on-site
URL:https://www.waynehealthcares.org/event/st-paul-ame-church-back-to-school-bash/
LOCATION:St. Paul AME Church\, 2260 Hunt Street\, Detroit\, MI\, 48207
END:VEVENT
BEGIN:VEVENT
DTSTART;TZID=America/Detroit:20240811T130000
DTEND;TZID=America/Detroit:20240811T160000
DTSTAMP:20260422T073651
CREATED:20240711T195212Z
LAST-MODIFIED:20240711T195212Z
UID:16669-1723381200-1723392000@www.waynehealthcares.org
SUMMARY:Alpha & Omega Mentor Program Community Back to School
DESCRIPTION:Wayne Mobile Health Unit (WMHU)\, in partnership with Alpha & Omega Mentor Program Community Back to School\, is offering the following services: \n* Blood Pressure Screening\n* Diabetes\, cholesterol\, kidney function screening \n* If you have questions concerning vaccine guidance\, please call the WMHU at: 313-448-9850\n* No appointment required\n* ID not required *We do collect if available\n* Insurance not required *We do collect if available; you will not receive a co-pay for this event \nWhat to Expect:\n* Qualified healthcare professional will provide all medical services\n* Vaccine education will be provided on-site
URL:https://www.waynehealthcares.org/event/alpha-omega-mentor-program-community-back-to-school/
LOCATION:Greater Missionary Baptist Church\, 2533 Carpenter\, Detroit\, MI\, 48212
END:VEVENT
BEGIN:VEVENT
DTSTART;TZID=America/Detroit:20240812T090000
DTEND;TZID=America/Detroit:20240812T140000
DTSTAMP:20260422T073651
CREATED:20240711T200940Z
LAST-MODIFIED:20240711T201110Z
UID:16671-1723453200-1723471200@www.waynehealthcares.org
SUMMARY:Wayne Metropolitan Community Action Agency Harper Woods
DESCRIPTION:Wayne Mobile Health Unit (WMHU)\, in partnership with Wayne Metropolitan Community Action Agency Harper Woods\, is offering the following services: \n* Blood Pressure Screening\n* Diabetes\, cholesterol\, kidney function screening \n* If you have questions concerning vaccine guidance\, please call the WMHU at: 313-448-9850\n* No appointment required\n* ID not required *We do collect if available\n* Insurance not required *We do collect if available; you will not receive a co-pay for this event \nWhat to Expect:\n* Qualified healthcare professional will provide all medical services\n* Vaccine education will be provided on-site
URL:https://www.waynehealthcares.org/event/wayne-metropolitan-community-action-agency-harper-woods/
LOCATION:Wayne Metro Community Action Agency – Harper Woods\, 19258 Kelly Road\, Harper Woods\, MI\, 48225
END:VEVENT
BEGIN:VEVENT
DTSTART;TZID=America/Detroit:20240812T090000
DTEND;TZID=America/Detroit:20240812T140000
DTSTAMP:20260422T073651
CREATED:20240711T201637Z
LAST-MODIFIED:20240711T201637Z
UID:16673-1723453200-1723471200@www.waynehealthcares.org
SUMMARY:Wayne Metropolitan Community Action Agency Sunnyside
DESCRIPTION:Wayne Mobile Health Unit (WMHU)\, in partnership with Wayne Metropolitan Community Action Agency Sunnyside\, is offering the following services: \n* Blood Pressure Screening\n* Diabetes\, cholesterol\, kidney function screening \n* If you have questions concerning vaccine guidance\, please call the WMHU at: 313-448-9850\n* No appointment required\n* ID not required *We do collect if available\n* Insurance not required *We do collect if available; you will not receive a co-pay for this event \nWhat to Expect:\n* Qualified healthcare professional will provide all medical services\n* Vaccine education will be provided on-site
URL:https://www.waynehealthcares.org/event/wayne-metropolitan-community-action-agency-sunnyside/
LOCATION:Wayne Metropolitan Community Action Agency Sunnyside\, Head Start - 24820 Merriman Road\, New Boston\, MI\, 48164
END:VEVENT
BEGIN:VEVENT
DTSTART;TZID=America/Detroit:20240813T090000
DTEND;TZID=America/Detroit:20240813T110000
DTSTAMP:20260422T073651
CREATED:20240715T193118Z
LAST-MODIFIED:20240715T193118Z
UID:16695-1723539600-1723546800@www.waynehealthcares.org
SUMMARY:Non-Public Event
DESCRIPTION:
URL:https://www.waynehealthcares.org/event/non-public-event-64/
LOCATION:MI
END:VEVENT
BEGIN:VEVENT
DTSTART;TZID=America/Detroit:20240813T090000
DTEND;TZID=America/Detroit:20240813T140000
DTSTAMP:20260422T073651
CREATED:20240715T193808Z
LAST-MODIFIED:20240715T195358Z
UID:16696-1723539600-1723557600@www.waynehealthcares.org
SUMMARY:Wayne Metropolitan Community Action Agency Mitchell
DESCRIPTION:Wayne Mobile Health Unit (WMHU)\, in partnership with Wayne Metropolitan Community Action Agency Mitchell\, is offering the following services: \n* Lead Screening \n* Blood Pressure Screening\n* Diabetes\, cholesterol\, kidney function screening \n* If you have questions concerning vaccine guidance\, please call the WMHU at: 313-448-9850\n* No appointment required\n* ID not required *We do collect if available\n* Insurance not required *We do collect if available; you will not receive a co-pay for this event \nWhat to Expect:\n* Qualified healthcare professional will provide all medical services\n* Vaccine education will be provided on-site
URL:https://www.waynehealthcares.org/event/wayne-metropolitan-community-action-agency-mitchell-2/
LOCATION:Wayne Metropolitan Community Action Agency – Mitchell\, 12031 Mitchell St.\, Hamtramck\, MI\, 48212
END:VEVENT
BEGIN:VEVENT
DTSTART;TZID=America/Detroit:20240813T090000
DTEND;TZID=America/Detroit:20240813T150000
DTSTAMP:20260422T073651
CREATED:20240729T184519Z
LAST-MODIFIED:20240730T184442Z
UID:16852-1723539600-1723561200@www.waynehealthcares.org
SUMMARY:Faith Redemption Center
DESCRIPTION:Wayne Mobile Health Unit (WMHU)\, in partnership with Faith Redemption Center\, is offering Preventative Health Screenings and the following services: \n* Blood Pressure Screening \n* Diabetes\, cholesterol\, kidney function screening \n* If you have questions\, please call the WMHU at: 313-448-9850\n* No appointment required\n* ID not required *We do collect if available\n* Insurance not required *We do collect if available; you will not receive a co-pay for this event \nWhat to Expect:\n* Qualified healthcare professional will provide all medical services\n* Health and Vaccine education will be provided on-site \n  \n 
URL:https://www.waynehealthcares.org/event/faith-redemption-center-womens-health-day/
LOCATION:Faith Redemption Center Church of God in Christ\, 15727 Plymouth Road\, Detroit\, MI\, 48227
END:VEVENT
BEGIN:VEVENT
DTSTART;TZID=America/Detroit:20240813T090000
DTEND;TZID=America/Detroit:20240813T150000
DTSTAMP:20260422T073651
CREATED:20240729T184923Z
LAST-MODIFIED:20240729T184923Z
UID:16855-1723539600-1723561200@www.waynehealthcares.org
SUMMARY:Calvary Lutheran Church Lead Testing Event
DESCRIPTION:Wayne Mobile Health Unit (WMHU)\, in partnership with Calvary Lutheran Church\, is offering the following services: \n* Lead Testing \n* If you have questions concerning vaccine guidance\, please call the WMHU at: 313-448-9850\n* No appointment required\n* ID not required *We do collect if available\n* Insurance not required *We do collect if available; you will not receive a co-pay for this event \nWhat to Expect:\n* Qualified healthcare professional will provide all medical services\n* Vaccine education will be provided on-site
URL:https://www.waynehealthcares.org/event/calvary-lutheran-church-lead-testing-event/
LOCATION:Calvary Lutheran Church\, 3320 Electric Avenue\, Lincoln Park\, MI\, 48146
END:VEVENT
BEGIN:VEVENT
DTSTART;TZID=America/Detroit:20240813T110000
DTEND;TZID=America/Detroit:20240813T140000
DTSTAMP:20260422T073651
CREATED:20240715T195512Z
LAST-MODIFIED:20240715T195512Z
UID:16698-1723546800-1723557600@www.waynehealthcares.org
SUMMARY:Non-Public Event
DESCRIPTION:
URL:https://www.waynehealthcares.org/event/non-public-event-65/
LOCATION:MI
END:VEVENT
BEGIN:VEVENT
DTSTART;TZID=America/Detroit:20240813T130000
DTEND;TZID=America/Detroit:20240813T170000
DTSTAMP:20260422T073651
CREATED:20240711T201854Z
LAST-MODIFIED:20240711T201854Z
UID:16675-1723554000-1723568400@www.waynehealthcares.org
SUMMARY:Non-public Event
DESCRIPTION:
URL:https://www.waynehealthcares.org/event/non-public-event-63/
LOCATION:MI
END:VEVENT
BEGIN:VEVENT
DTSTART;TZID=America/Detroit:20240813T173000
DTEND;TZID=America/Detroit:20240813T203000
DTSTAMP:20260422T073651
CREATED:20240723T164906Z
LAST-MODIFIED:20240806T194140Z
UID:16821-1723570200-1723581000@www.waynehealthcares.org
SUMMARY:Highland Park National Night Out
DESCRIPTION:Wayne Mobile Health Unit (WMHU)\, in partnership with Highland Park National Night Out\, is offering the following services: \n* Blood Pressure Screening\n* Diabetes\, cholesterol\, kidney function screening \n* If you have questions concerning vaccine guidance\, please call the WMHU at: 313-448-9850\n* No appointment required\n* ID not required *We do collect if available\n* Insurance not required *We do collect if available; you will not receive a co-pay for this event \nWhat to Expect:\n* Qualified healthcare professional will provide all medical services\n* Vaccine education will be provided on-site \n 
URL:https://www.waynehealthcares.org/event/highland-park-national-night-out/
LOCATION:Robert Blackwell Municipal Building\, 12050 Woodward Avenue\, Highland Park\, MI\, 48203
END:VEVENT
BEGIN:VEVENT
DTSTART;TZID=America/Detroit:20240814T080000
DTEND;TZID=America/Detroit:20240814T100000
DTSTAMP:20260422T073651
CREATED:20240715T200136Z
LAST-MODIFIED:20240715T200136Z
UID:16700-1723622400-1723629600@www.waynehealthcares.org
SUMMARY:Non-public Event
DESCRIPTION:
URL:https://www.waynehealthcares.org/event/non-public-event-66/
LOCATION:MI
END:VEVENT
BEGIN:VEVENT
DTSTART;TZID=America/Detroit:20240814T090000
DTEND;TZID=America/Detroit:20240814T140000
DTSTAMP:20260422T073651
CREATED:20240715T201232Z
LAST-MODIFIED:20240715T201509Z
UID:16705-1723626000-1723644000@www.waynehealthcares.org
SUMMARY:Wayne Metro Community Action Agency MacGowan
DESCRIPTION:Wayne Mobile Health Unit (WMHU)\, in partnership with Wayne Metro Community Action Agency MacGowan\, is offering the following services: \n* Lead Testing \n* Blood Pressure Screening\n* Diabetes\, cholesterol\, kidney function screening \n* If you have questions concerning vaccine guidance\, please call the WMHU at: 313-448-9850\n* No appointment required\n* ID not required *We do collect if available\n* Insurance not required *We do collect if available; you will not receive a co-pay for this event \nWhat to Expect:\n* Qualified healthcare professional will provide all medical services\n* Vaccine education will be provided on-site
URL:https://www.waynehealthcares.org/event/wayne-metro-community-action-agency-macgowan/
LOCATION:Wayne Metropolitan Action Agency – MacGowan\, 18255 Kinloch\, Redford\, MI\, 48240
END:VEVENT
BEGIN:VEVENT
DTSTART;TZID=America/Detroit:20240814T100000
DTEND;TZID=America/Detroit:20240814T130000
DTSTAMP:20260422T073651
CREATED:20240715T200914Z
LAST-MODIFIED:20240729T185318Z
UID:16702-1723629600-1723640400@www.waynehealthcares.org
SUMMARY:Head Start Annual Fair & Lead Testing Event
DESCRIPTION:Wayne Mobile Health Unit (WMHU)\, in partnership with Head Start Annual Fair & Lead Testing Event\, is offering the following services: \n* Lead Testing \n* If you have questions concerning vaccine guidance\, please call the WMHU at: 313-448-9850\n* No appointment required\n* ID not required *We do collect if available\n* Insurance not required *We do collect if available; you will not receive a co-pay for this event \nWhat to Expect:\n* Qualified healthcare professional will provide all medical services\n* Vaccine education will be provided on-site
URL:https://www.waynehealthcares.org/event/head-start-annual-fair-lead-testing-event/
LOCATION:Mt. Clemens High School\, 167 Cass Avenue\, Mount Clemens\, MI\, 48043
END:VEVENT
BEGIN:VEVENT
DTSTART;TZID=America/Detroit:20240814T110000
DTEND;TZID=America/Detroit:20240814T150000
DTSTAMP:20260422T073651
CREATED:20240715T195922Z
LAST-MODIFIED:20240715T195922Z
UID:16699-1723633200-1723647600@www.waynehealthcares.org
SUMMARY:Celebrating a Healthier Detroit Expo
DESCRIPTION:Wayne Mobile Health Unit (WMHU)\, in partnership with Celebrating a Healthier Detroit Expo\, is offering the following services: \n* Blood Pressure Screening\n* Diabetes\, cholesterol\, kidney function screening \n* If you have questions concerning vaccine guidance\, please call the WMHU at: 313-448-9850\n* No appointment required\n* ID not required *We do collect if available\n* Insurance not required *We do collect if available; you will not receive a co-pay for this event \nWhat to Expect:\n* Qualified healthcare professional will provide all medical services\n* Vaccine education will be provided on-site
URL:https://www.waynehealthcares.org/event/celebrating-a-healthier-detroit-expo/
LOCATION:Milliken State Park & Harbor- 1900 Atwater St. Detroit\, MI 48207
END:VEVENT
BEGIN:VEVENT
DTSTART;TZID=America/Detroit:20240814T160000
DTEND;TZID=America/Detroit:20240814T180000
DTSTAMP:20260422T073651
CREATED:20240715T200534Z
LAST-MODIFIED:20240715T200534Z
UID:16701-1723651200-1723658400@www.waynehealthcares.org
SUMMARY:Team Wellness Center East Clinic
DESCRIPTION:Wayne Mobile Health Unit (WMHU)\, in partnership with Team Wellness Center East Clinic\, is offering the following services: \n* Blood Pressure Screening\n* Diabetes\, cholesterol\, kidney function screening \n* If you have questions concerning vaccine guidance\, please call the WMHU at: 313-448-9850\n* No appointment required\n* ID not required *We do collect if available\n* Insurance not required *We do collect if available; you will not receive a co-pay for this event \nWhat to Expect:\n* Qualified healthcare professional will provide all medical services\n* Vaccine education will be provided on-site
URL:https://www.waynehealthcares.org/event/team-wellness-center-east-clinic-4/
LOCATION:Team Wellness East\, 6309 Mack Avenue\, Detroit\, MI\, 48207
END:VEVENT
BEGIN:VEVENT
DTSTART;TZID=America/Detroit:20240815T090000
DTEND;TZID=America/Detroit:20240815T150000
DTSTAMP:20260422T073651
CREATED:20240729T185840Z
LAST-MODIFIED:20240729T185853Z
UID:16859-1723712400-1723734000@www.waynehealthcares.org
SUMMARY:Owen Intermediate School Lead Testing
DESCRIPTION:Wayne Mobile Health Unit (WMHU)\, in partnership with Owen Intermediate School\, is offering the following services: \n* Lead Testing \n* If you have questions concerning vaccine guidance\, please call the WMHU at: 313-448-9850\n* No appointment required\n* ID not required *We do collect if available\n* Insurance not required *We do collect if available; you will not receive a co-pay for this event \nWhat to Expect:\n* Qualified healthcare professional will provide all medical services\n* Vaccine education will be provided on-site
URL:https://www.waynehealthcares.org/event/owen-intermediate-school-lead-testing/
LOCATION:Owen Intermediate School\, 45201 Owen St.\, Belleville\, MI\, 48111
END:VEVENT
BEGIN:VEVENT
DTSTART;TZID=America/Detroit:20240815T100000
DTEND;TZID=America/Detroit:20240815T180000
DTSTAMP:20260422T073651
CREATED:20240716T192640Z
LAST-MODIFIED:20240716T192640Z
UID:16713-1723716000-1723744800@www.waynehealthcares.org
SUMMARY:Non-Public Event
DESCRIPTION:
URL:https://www.waynehealthcares.org/event/non-public-event-68/
LOCATION:MI
END:VEVENT
BEGIN:VEVENT
DTSTART;TZID=America/Detroit:20240815T130000
DTEND;TZID=America/Detroit:20240815T150000
DTSTAMP:20260422T073651
CREATED:20240716T192512Z
LAST-MODIFIED:20240716T192512Z
UID:16711-1723726800-1723734000@www.waynehealthcares.org
SUMMARY:Non-Public Event
DESCRIPTION:
URL:https://www.waynehealthcares.org/event/non-public-event-67/
LOCATION:MI
END:VEVENT
END:VCALENDAR