BEGIN:VCALENDAR
VERSION:2.0
PRODID:-//Wayne Health - ECPv6.15.20//NONSGML v1.0//EN
CALSCALE:GREGORIAN
METHOD:PUBLISH
X-WR-CALNAME:Wayne Health
X-ORIGINAL-URL:https://www.waynehealthcares.org
X-WR-CALDESC:Events for Wayne Health
REFRESH-INTERVAL;VALUE=DURATION:PT1H
X-Robots-Tag:noindex
X-PUBLISHED-TTL:PT1H
BEGIN:VTIMEZONE
TZID:America/New_York
BEGIN:DAYLIGHT
TZOFFSETFROM:-0500
TZOFFSETTO:-0400
TZNAME:EDT
DTSTART:20210314T070000
END:DAYLIGHT
BEGIN:STANDARD
TZOFFSETFROM:-0400
TZOFFSETTO:-0500
TZNAME:EST
DTSTART:20211107T060000
END:STANDARD
BEGIN:DAYLIGHT
TZOFFSETFROM:-0500
TZOFFSETTO:-0400
TZNAME:EDT
DTSTART:20220313T070000
END:DAYLIGHT
BEGIN:STANDARD
TZOFFSETFROM:-0400
TZOFFSETTO:-0500
TZNAME:EST
DTSTART:20221106T060000
END:STANDARD
BEGIN:DAYLIGHT
TZOFFSETFROM:-0500
TZOFFSETTO:-0400
TZNAME:EDT
DTSTART:20230312T070000
END:DAYLIGHT
BEGIN:STANDARD
TZOFFSETFROM:-0400
TZOFFSETTO:-0500
TZNAME:EST
DTSTART:20231105T060000
END:STANDARD
END:VTIMEZONE
BEGIN:VEVENT
DTSTART;TZID=America/New_York:20220725T170000
DTEND;TZID=America/New_York:20220725T193000
DTSTAMP:20260421T051423
CREATED:20220722T221938Z
LAST-MODIFIED:20220725T224850Z
UID:13005-1658768400-1658777400@www.waynehealthcares.org
SUMMARY:Hope Village Revitalization: July Health Deliberations
DESCRIPTION:WHMU Services:\n  *   Blood pressure screening\n  *   General health screening: diabetes\, cholesterol\, kidney function screening\n  *   COVID-19 vaccinations (5+ years old) (manufacturer subject to availability)\n  *   COVID-19 PCR testing (3+ years old)\n  *   No appointment needed\n  *   ID not required *we do collect if one is available\n  *   Insurance not required *we do collect if available\, but you will not receive a co-pay for this event\n  *   Parental/Guardian authorization is required for any individuals under the age of 18-for all services outside of the HIV Screening (13 yr and up).  ​\nOther Services that may be available:\n  *   HIV testing (13+ years old\, results within 20 minutes)\n  *   Linkage to care and community resources
URL:https://www.waynehealthcares.org/event/hope-village-revitalization-july-health-deliberations/
LOCATION:Cool City Park 14150 Woodrow Wilson\, Detroit MI
END:VEVENT
END:VCALENDAR