BEGIN:VCALENDAR
VERSION:2.0
PRODID:-//Wayne Health - ECPv6.15.20//NONSGML v1.0//EN
CALSCALE:GREGORIAN
METHOD:PUBLISH
X-WR-CALNAME:Wayne Health
X-ORIGINAL-URL:https://www.waynehealthcares.org
X-WR-CALDESC:Events for Wayne Health
REFRESH-INTERVAL;VALUE=DURATION:PT1H
X-Robots-Tag:noindex
X-PUBLISHED-TTL:PT1H
BEGIN:VTIMEZONE
TZID:America/Detroit
BEGIN:DAYLIGHT
TZOFFSETFROM:-0500
TZOFFSETTO:-0400
TZNAME:EDT
DTSTART:20220313T070000
END:DAYLIGHT
BEGIN:STANDARD
TZOFFSETFROM:-0400
TZOFFSETTO:-0500
TZNAME:EST
DTSTART:20221106T060000
END:STANDARD
BEGIN:DAYLIGHT
TZOFFSETFROM:-0500
TZOFFSETTO:-0400
TZNAME:EDT
DTSTART:20230312T070000
END:DAYLIGHT
BEGIN:STANDARD
TZOFFSETFROM:-0400
TZOFFSETTO:-0500
TZNAME:EST
DTSTART:20231105T060000
END:STANDARD
BEGIN:DAYLIGHT
TZOFFSETFROM:-0500
TZOFFSETTO:-0400
TZNAME:EDT
DTSTART:20240310T070000
END:DAYLIGHT
BEGIN:STANDARD
TZOFFSETFROM:-0400
TZOFFSETTO:-0500
TZNAME:EST
DTSTART:20241103T060000
END:STANDARD
BEGIN:DAYLIGHT
TZOFFSETFROM:-0500
TZOFFSETTO:-0400
TZNAME:EDT
DTSTART:20250309T070000
END:DAYLIGHT
BEGIN:STANDARD
TZOFFSETFROM:-0400
TZOFFSETTO:-0500
TZNAME:EST
DTSTART:20251102T060000
END:STANDARD
END:VTIMEZONE
BEGIN:VEVENT
DTSTART;TZID=America/Detroit:20241017T103000
DTEND;TZID=America/Detroit:20241017T130000
DTSTAMP:20260420T024018
CREATED:20241009T143539Z
LAST-MODIFIED:20241009T143603Z
UID:17320-1729161000-1729170000@www.waynehealthcares.org
SUMMARY:Healthier Black Elders Center Lunch and Learn
DESCRIPTION:Wayne Mobile Health Unit (WMHU)\, in partnership with Healthier Black Elders Center Lunch and Learn\, is offering the following services: \n* Blood Pressure Screening\n* Diabetes\, cholesterol\, kidney function screening \n* Standard Influenza vaccinations *Subject to availability. Insurance billed for vaccines. There will be no cost to an individual who does not have insurance coverage. \n* If you have questions concerning vaccine guidance\, please call the WMHU at: 313-448-9850 \nWhat to Expect:\n* Qualified healthcare professional will provide all medical services\n* Please allow 15-minutes for observation post vaccine\n* Vaccine education will be provided on-site
URL:https://www.waynehealthcares.org/event/healthier-black-elders-center-lunch-and-learn/
LOCATION:Highland Park Recreation Center\, 10 Pitkin Street\, Highland Park\, MI\, 48203
END:VEVENT
BEGIN:VEVENT
DTSTART;TZID=America/Detroit:20240620T103000
DTEND;TZID=America/Detroit:20240620T130000
DTSTAMP:20260420T024018
CREATED:20240607T141852Z
LAST-MODIFIED:20240607T141852Z
UID:16392-1718879400-1718888400@www.waynehealthcares.org
SUMMARY:Healthier Black Edlers Health Education Event
DESCRIPTION:Wayne Mobile Health Unit (WMHU)\, in partnership with Healthier Black Edlers Health Education Event\, is offering the following services: \n* Blood Pressure Screening\n* Diabetes\, cholesterol\, kidney function screening \n* If you have questions concerning vaccine guidance\, please call the WMHU at: 313-448-9850\n* No appointment required\n* ID not required *We do collect if available\n* Insurance not required *We do collect if available; you will not receive a co-pay for this event \nWhat to Expect:\n* Qualified healthcare professional will provide all medical services\n* Vaccine education will be provided on-site \n 
URL:https://www.waynehealthcares.org/event/healthier-black-edlers-health-education-event/
LOCATION:Highland Park Recreation Center\, 10 Pitkin Street\, Highland Park\, MI\, 48203
END:VEVENT
BEGIN:VEVENT
DTSTART;TZID=America/Detroit:20230530T100000
DTEND;TZID=America/Detroit:20230530T130000
DTSTAMP:20260420T024018
CREATED:20230511T180111Z
LAST-MODIFIED:20230511T180111Z
UID:14633-1685440800-1685451600@www.waynehealthcares.org
SUMMARY:Highland Park Recreation Center
DESCRIPTION:Wayne Health Mobile Unit (WMHU)\, in partnership with  is offering the following services: \n* Blood Pressure Screening \n* Diabetes\, cholesterol\, kidney function screening \n*Retinal Screening \n*Urinalysis \n* COVID-19 vaccine (manufacturer subject to availability) Please bring your CDC card if coming for your 2nd \,3rd\, or booster doses \n* Pfizer \n* Moderna \n* Janssen \n* if you have any questions concerning vaccine guidance\, please call the WHMU at: 313-448-9850 \n* COVID-19 PCR testing (3+ years old) \n* No appointment needed \n* ID not required *we do collect if one is available \n* Insurance not required *we do collect if available\, but you will not receive a co-pay for this event \nWhat to Expect: \n* Qualified healthcare professional will provide all medical services \n* Please allow 15 minutes for observation post COVID-19 vaccine \n* Vaccine education will be provided on-site
URL:https://www.waynehealthcares.org/event/highland-park-recreation-center-2/2023-05-30/
LOCATION:Highland Park Recreation Center\, 10 Pitkin Street\, Highland Park\, MI\, 48203
END:VEVENT
BEGIN:VEVENT
DTSTART;TZID=America/Detroit:20230308T120000
DTEND;TZID=America/Detroit:20230308T160000
DTSTAMP:20260420T024018
CREATED:20230215T193432Z
LAST-MODIFIED:20230215T193432Z
UID:14405-1678276800-1678291200@www.waynehealthcares.org
SUMMARY:Highland Park Recreation Center
DESCRIPTION:Wayne Health Mobile Unit (WMHU)\, in partnership with event organizer\, is offering the following services: \n* Blood Pressure Screening \n* Diabetes\, cholesterol\, kidney function screening \n* COVID-19 vaccine (manufacturer subject to availability) Please bring your CDC card if coming for your 2nd \,3rd\, or booster doses \n* Pfizer \n* Moderna \n* Janssen \n* if you have any questions concerning vaccine guidance\, please call the WHMU at: 313-448-9850 \n* COVID-19 PCR testing (3+ years old) \n* No appointment needed \n* ID not required *we do collect if one is available \n* Insurance not required *we do collect if available\, but you will not receive a co-pay for this event \nWhat to Expect: \n* Qualified healthcare professional will provide all medical services \n* Please allow 15 minutes for observation post COVID-19 vaccine \n* Vaccine education will be provided on-site
URL:https://www.waynehealthcares.org/event/highland-park-recreation-center/
LOCATION:Highland Park Recreation Center\, 10 Pitkin Street\, Highland Park\, MI\, 48203
END:VEVENT
END:VCALENDAR