BEGIN:VCALENDAR
VERSION:2.0
PRODID:-//Wayne Health - ECPv6.15.20//NONSGML v1.0//EN
CALSCALE:GREGORIAN
METHOD:PUBLISH
X-ORIGINAL-URL:https://www.waynehealthcares.org
X-WR-CALDESC:Events for Wayne Health
REFRESH-INTERVAL;VALUE=DURATION:PT1H
X-Robots-Tag:noindex
X-PUBLISHED-TTL:PT1H
BEGIN:VTIMEZONE
TZID:America/Detroit
BEGIN:DAYLIGHT
TZOFFSETFROM:-0500
TZOFFSETTO:-0400
TZNAME:EDT
DTSTART:20230312T070000
END:DAYLIGHT
BEGIN:STANDARD
TZOFFSETFROM:-0400
TZOFFSETTO:-0500
TZNAME:EST
DTSTART:20231105T060000
END:STANDARD
BEGIN:DAYLIGHT
TZOFFSETFROM:-0500
TZOFFSETTO:-0400
TZNAME:EDT
DTSTART:20240310T070000
END:DAYLIGHT
BEGIN:STANDARD
TZOFFSETFROM:-0400
TZOFFSETTO:-0500
TZNAME:EST
DTSTART:20241103T060000
END:STANDARD
BEGIN:DAYLIGHT
TZOFFSETFROM:-0500
TZOFFSETTO:-0400
TZNAME:EDT
DTSTART:20250309T070000
END:DAYLIGHT
BEGIN:STANDARD
TZOFFSETFROM:-0400
TZOFFSETTO:-0500
TZNAME:EST
DTSTART:20251102T060000
END:STANDARD
BEGIN:DAYLIGHT
TZOFFSETFROM:-0500
TZOFFSETTO:-0400
TZNAME:EDT
DTSTART:20260308T070000
END:DAYLIGHT
BEGIN:STANDARD
TZOFFSETFROM:-0400
TZOFFSETTO:-0500
TZNAME:EST
DTSTART:20261101T060000
END:STANDARD
END:VTIMEZONE
BEGIN:VEVENT
DTSTART;TZID=America/Detroit:20251006T100000
DTEND;TZID=America/Detroit:20251006T130000
DTSTAMP:20260422T051308
CREATED:20250902T180023Z
LAST-MODIFIED:20250902T180023Z
UID:18928-1759744800-1759755600@www.waynehealthcares.org
SUMMARY:Unify Detroit
DESCRIPTION:Wayne Mobile Health Unit (WMHU)\, in partnership with Unify Detroit\, is offering the following services: \n* Blood Pressure Screening\n* Diabetes\, cholesterol\, kidney function screening \n* Standard Influenza vaccinations *Subject to availability. Insurance billed for vaccines. There will be no cost to an individual who does not have insurance coverage. \nWhat to Expect:\n* Qualified healthcare professional will provide all medical services\n* Please allow 15-minutes for observation post vaccine\n* Vaccine education will be provided on-site
URL:https://www.waynehealthcares.org/event/unify-detroit/
LOCATION:New Beginings Community Church\, 11406 Morang\, Detroit\, MI\, 48224
END:VEVENT
BEGIN:VEVENT
DTSTART;TZID=America/Detroit:20241005T100000
DTEND;TZID=America/Detroit:20241005T140000
DTSTAMP:20260422T051308
CREATED:20240910T183042Z
LAST-MODIFIED:20240910T183042Z
UID:17143-1728122400-1728136800@www.waynehealthcares.org
SUMMARY:New Beginnings CDC Unify Detroit
DESCRIPTION:Wayne Mobile Health Unit (WMHU)\, in partnership with New Beginnings CDC Unify Detroit\, is offering the following services: \n* Blood Pressure Screening\n* Diabetes\, cholesterol\, kidney function screening \n* If you have questions concerning vaccine guidance\, please call the WMHU at: 313-448-9850\n* No appointment required\n* ID not required *We do collect if available\n* Insurance not required *We do collect if available; you will not receive a co-pay for this event \nWhat to Expect:\n* Qualified healthcare professional will provide all medical services\n* Vaccine education will be provided on-site
URL:https://www.waynehealthcares.org/event/new-beginnings-cdc-unify-detroit/
LOCATION:New Beginings Community Church\, 11406 Morang\, Detroit\, MI\, 48224
END:VEVENT
END:VCALENDAR