BEGIN:VCALENDAR
VERSION:2.0
PRODID:-//Wayne Health - ECPv6.15.20//NONSGML v1.0//EN
CALSCALE:GREGORIAN
METHOD:PUBLISH
X-WR-CALNAME:Wayne Health
X-ORIGINAL-URL:https://www.waynehealthcares.org
X-WR-CALDESC:Events for Wayne Health
REFRESH-INTERVAL;VALUE=DURATION:PT1H
X-Robots-Tag:noindex
X-PUBLISHED-TTL:PT1H
BEGIN:VTIMEZONE
TZID:America/Detroit
BEGIN:DAYLIGHT
TZOFFSETFROM:-0500
TZOFFSETTO:-0400
TZNAME:EDT
DTSTART:20230312T070000
END:DAYLIGHT
BEGIN:STANDARD
TZOFFSETFROM:-0400
TZOFFSETTO:-0500
TZNAME:EST
DTSTART:20231105T060000
END:STANDARD
BEGIN:DAYLIGHT
TZOFFSETFROM:-0500
TZOFFSETTO:-0400
TZNAME:EDT
DTSTART:20240310T070000
END:DAYLIGHT
BEGIN:STANDARD
TZOFFSETFROM:-0400
TZOFFSETTO:-0500
TZNAME:EST
DTSTART:20241103T060000
END:STANDARD
BEGIN:DAYLIGHT
TZOFFSETFROM:-0500
TZOFFSETTO:-0400
TZNAME:EDT
DTSTART:20250309T070000
END:DAYLIGHT
BEGIN:STANDARD
TZOFFSETFROM:-0400
TZOFFSETTO:-0500
TZNAME:EST
DTSTART:20251102T060000
END:STANDARD
END:VTIMEZONE
BEGIN:VEVENT
DTSTART;TZID=America/Detroit:20240801T090000
DTEND;TZID=America/Detroit:20240801T150000
DTSTAMP:20260424T074910
CREATED:20240729T171456Z
LAST-MODIFIED:20240729T171456Z
UID:16834-1722502800-1722524400@www.waynehealthcares.org
SUMMARY:Summer Health Days Lead Testing
DESCRIPTION:Wayne Mobile Health Unit (WMHU)\, in partnership with Summer Health Days Lead Testing\, is offering the following services: \n*Lead Testing \n* If you have questions concerning vaccine guidance\, please call the WMHU at: 313-448-9850\n* No appointment required\n* ID not required *We do collect if available\n* Insurance not required *We do collect if available; you will not receive a co-pay for this event \nWhat to Expect:\n* Qualified healthcare professional will provide all medical services\n* Vaccine education will be provided on-site \n 
URL:https://www.waynehealthcares.org/event/summer-health-days-lead-testing/
LOCATION:Walter White School\, 550 Eaton\, River Rouge\, MI\, 48218
END:VEVENT
END:VCALENDAR